BEGIN:VCALENDAR
VERSION:2.0
PRODID:-//Field Trip Adventures - ECPv6.15.20//NONSGML v1.0//EN
CALSCALE:GREGORIAN
METHOD:PUBLISH
X-WR-CALNAME:Field Trip Adventures
X-ORIGINAL-URL:https://fieldtripadventures.com
X-WR-CALDESC:Events for Field Trip Adventures
REFRESH-INTERVAL;VALUE=DURATION:PT1H
X-Robots-Tag:noindex
X-PUBLISHED-TTL:PT1H
BEGIN:VTIMEZONE
TZID:America/Chicago
BEGIN:DAYLIGHT
TZOFFSETFROM:-0600
TZOFFSETTO:-0500
TZNAME:CDT
DTSTART:20230312T080000
END:DAYLIGHT
BEGIN:STANDARD
TZOFFSETFROM:-0500
TZOFFSETTO:-0600
TZNAME:CST
DTSTART:20231105T070000
END:STANDARD
BEGIN:DAYLIGHT
TZOFFSETFROM:-0600
TZOFFSETTO:-0500
TZNAME:CDT
DTSTART:20240310T080000
END:DAYLIGHT
BEGIN:STANDARD
TZOFFSETFROM:-0500
TZOFFSETTO:-0600
TZNAME:CST
DTSTART:20241103T070000
END:STANDARD
BEGIN:DAYLIGHT
TZOFFSETFROM:-0600
TZOFFSETTO:-0500
TZNAME:CDT
DTSTART:20250309T080000
END:DAYLIGHT
BEGIN:STANDARD
TZOFFSETFROM:-0500
TZOFFSETTO:-0600
TZNAME:CST
DTSTART:20251102T070000
END:STANDARD
END:VTIMEZONE
BEGIN:VEVENT
DTSTART;TZID=America/Chicago:20241020T080000
DTEND;TZID=America/Chicago:20241020T170000
DTSTAMP:20260419T094711
CREATED:20240830T154042Z
LAST-MODIFIED:20240830T154047Z
UID:93796-1729411200-1729443600@fieldtripadventures.com
SUMMARY:Northern Star Scouting - Fall Day Camp 2024
DESCRIPTION:Fall Day Camp is a half-day opportunity for all youth and their families to kick off the school year by participating in activities like archery\, climbing\, crafts and more. This program offers a unique and valuable experience that can’t be replicated anywhere else providing an opportunity to prioritize your child’s development and connection to the outdoors! Operating Saturdays and Sundays from Sept 27 through Oct 27. Registration opens September 1!
URL:https://fieldtripadventures.com/event/northern-star-scouting-fall-day-camp-2024-2/
LOCATION:Minnesota
ATTACH;FMTTYPE=image/jpeg:https://fieldtripadventures.com/wp-content/uploads/2024/08/2019_gmf_FallDayCamp-Logo_800x640-600-600-p-L-97.jpg
END:VEVENT
BEGIN:VEVENT
DTSTART;TZID=America/Chicago:20240928T170000
DTEND;TZID=America/Chicago:20241102T233000
DTSTAMP:20260419T094711
CREATED:20240830T053108Z
LAST-MODIFIED:20240830T053121Z
UID:93773-1727542800-1730590200@fieldtripadventures.com
SUMMARY:Jack O Lantern Spectacular
DESCRIPTION:This fall\, carve out a little time to bask in the glow of a truly magical experience\, the Jack-O-Lantern Spectacular at the Minnesota Zoo. Returning for its sixth year\, this enchanting evening experience will kick off September 28 and run through November 2\, 2024. \n\n\n\nJack-O-Lantern Spectacular provides an enlightened way to connect with nature and celebrate the splendor of autumn nights in Minnesota. Part pumpkin patch and part art installation\, guests will marvel at thousands of artistically carved pumpkins of all shapes and sizes as they wander through a naturally magical trail at the Minnesota Zoo. “Wanderlust” is the theme of this year’s collection with pumpkins depicting the wonders of the world and the joys of travel.
URL:https://fieldtripadventures.com/event/jack-o-lantern-spectacular/
LOCATION:Minnesota Zoo\, 13000 Zoo Boulevard\, Apple Valley\, Minnesota\, 55124
ATTACH;FMTTYPE=image/jpeg:https://fieldtripadventures.com/wp-content/uploads/2024/08/JOLS-Low-Res.jpg
END:VEVENT
END:VCALENDAR