BEGIN:VCALENDAR
VERSION:2.0
PRODID:-//Field Trip Adventures - ECPv6.15.20//NONSGML v1.0//EN
CALSCALE:GREGORIAN
METHOD:PUBLISH
X-WR-CALNAME:Field Trip Adventures
X-ORIGINAL-URL:https://fieldtripadventures.com
X-WR-CALDESC:Events for Field Trip Adventures
REFRESH-INTERVAL;VALUE=DURATION:PT1H
X-Robots-Tag:noindex
X-PUBLISHED-TTL:PT1H
BEGIN:VTIMEZONE
TZID:America/Chicago
BEGIN:DAYLIGHT
TZOFFSETFROM:-0600
TZOFFSETTO:-0500
TZNAME:CDT
DTSTART:20230312T080000
END:DAYLIGHT
BEGIN:STANDARD
TZOFFSETFROM:-0500
TZOFFSETTO:-0600
TZNAME:CST
DTSTART:20231105T070000
END:STANDARD
BEGIN:DAYLIGHT
TZOFFSETFROM:-0600
TZOFFSETTO:-0500
TZNAME:CDT
DTSTART:20240310T080000
END:DAYLIGHT
BEGIN:STANDARD
TZOFFSETFROM:-0500
TZOFFSETTO:-0600
TZNAME:CST
DTSTART:20241103T070000
END:STANDARD
BEGIN:DAYLIGHT
TZOFFSETFROM:-0600
TZOFFSETTO:-0500
TZNAME:CDT
DTSTART:20250309T080000
END:DAYLIGHT
BEGIN:STANDARD
TZOFFSETFROM:-0500
TZOFFSETTO:-0600
TZNAME:CST
DTSTART:20251102T070000
END:STANDARD
END:VTIMEZONE
BEGIN:VEVENT
DTSTART;TZID=America/Chicago:20240916T100000
DTEND;TZID=America/Chicago:20240920T200000
DTSTAMP:20260419T113309
CREATED:20240830T052311Z
LAST-MODIFIED:20240917T202059Z
UID:93768-1726480800-1726862400@fieldtripadventures.com
SUMMARY:Sea Life at Mall of America - Homeschool Days
DESCRIPTION:Ignite your students’ imagination as they come face-to-fin with thousands of creatures and get closer than ever before During SEA LIFE at Mall of America’s Homeschool Days! Give your students the opportunity to explore the creatures that live in our lakes\, rivers and oceans through interactive\, hands-on experiences. From feeling the spiny skin of a sea star to gazing at sharks swimming overhead\, spend the day exploring over 11 exhibits\, thousands of sea creatures and over 200 species in an immersive setting.
URL:https://fieldtripadventures.com/event/sea-life-at-mall-of-america-homeschool-days-2/
LOCATION:SEA LIFE Minnesota Aquarium\, Mall of America\, 120 East Broadway\, Bloomington\, Minnesota\, 55425
ATTACH;FMTTYPE=image/jpeg:https://fieldtripadventures.com/wp-content/uploads/2024/08/Homeschool-Days-1-1-1.jpg
END:VEVENT
BEGIN:VEVENT
DTSTART;TZID=America/Chicago:20240919T180000
DTEND;TZID=America/Chicago:20240919T193000
DTSTAMP:20260419T113309
CREATED:20240830T053530Z
LAST-MODIFIED:20240830T053549Z
UID:93783-1726768800-1726774200@fieldtripadventures.com
SUMMARY:History on Two Wheels: Inside Historic Fort Snelling and to the Upper Post
DESCRIPTION:The sights. The stories. The adventure! Take a two-wheeled trip into the past with a Historic Fort Snelling bike tour. \n\n\n\nThese fun\, informative tours are led by expert guides who will take you in and around this important setting in Minnesota history. And they’ll share many captivating stories and facts along the way. Get your tickets now\, then pump up your tires because you won’t want to miss a minute of the fun.
URL:https://fieldtripadventures.com/event/history-on-two-wheels-inside-historic-fort-snelling-and-to-the-upper-post-2/
LOCATION:Historic Fort Snelling\, 200 Tower Ave\, St Paul\, Minnesota\, 55111
ATTACH;FMTTYPE=image/jpeg:https://fieldtripadventures.com/wp-content/uploads/2024/08/historic-fort-snelling-1.jpg
END:VEVENT
END:VCALENDAR