BEGIN:VCALENDAR
VERSION:2.0
PRODID:-//Field Trip Adventures - ECPv6.15.20//NONSGML v1.0//EN
CALSCALE:GREGORIAN
METHOD:PUBLISH
X-ORIGINAL-URL:https://fieldtripadventures.com
X-WR-CALDESC:Events for Field Trip Adventures
REFRESH-INTERVAL;VALUE=DURATION:PT1H
X-Robots-Tag:noindex
X-PUBLISHED-TTL:PT1H
BEGIN:VTIMEZONE
TZID:America/Chicago
BEGIN:DAYLIGHT
TZOFFSETFROM:-0600
TZOFFSETTO:-0500
TZNAME:CDT
DTSTART:20230312T080000
END:DAYLIGHT
BEGIN:STANDARD
TZOFFSETFROM:-0500
TZOFFSETTO:-0600
TZNAME:CST
DTSTART:20231105T070000
END:STANDARD
BEGIN:DAYLIGHT
TZOFFSETFROM:-0600
TZOFFSETTO:-0500
TZNAME:CDT
DTSTART:20240310T080000
END:DAYLIGHT
BEGIN:STANDARD
TZOFFSETFROM:-0500
TZOFFSETTO:-0600
TZNAME:CST
DTSTART:20241103T070000
END:STANDARD
BEGIN:DAYLIGHT
TZOFFSETFROM:-0600
TZOFFSETTO:-0500
TZNAME:CDT
DTSTART:20250309T080000
END:DAYLIGHT
BEGIN:STANDARD
TZOFFSETFROM:-0500
TZOFFSETTO:-0600
TZNAME:CST
DTSTART:20251102T070000
END:STANDARD
END:VTIMEZONE
BEGIN:VEVENT
DTSTART;TZID=America/Chicago:20240610T090000
DTEND;TZID=America/Chicago:20240830T160000
DTSTAMP:20260419T113336
CREATED:20240116T163905Z
LAST-MODIFIED:20240621T011117Z
UID:354-1718010000-1725033600@fieldtripadventures.com
SUMMARY:Summer Camps at Minnesota Children's Museum
DESCRIPTION:Event Information\n\n\n\nWe’re partnering with The Works Museum and Stages Theatre Company to bring some of their favorite camps to Minnesota Children’s Museum! \n\n\n\nSummer camps are scheduled throughout June\, July and August\, mornings and afternoons. \n\n\n\n\n\nAddress \n\n\n\nMinnesota Children’s Museum10 W 7th StreetSt Paul\, MN 55102 \n\n\n\nLearn More
URL:https://fieldtripadventures.com/event/summer-camps-at-minnesota-childrens-museum/
LOCATION:Minnesota Children’s Museum\, 10 W 7th Street\, St Paul\, MN\, 55102\, United States
ATTACH;FMTTYPE=image/jpeg:https://fieldtripadventures.com/wp-content/uploads/2024/01/Children_s-Museum-scaled.jpg
END:VEVENT
BEGIN:VEVENT
DTSTART;TZID=America/Chicago:20240829T173000
DTEND;TZID=America/Chicago:20240829T200000
DTSTAMP:20260419T113336
CREATED:20240726T004521Z
LAST-MODIFIED:20240802T200947Z
UID:93292-1724952600-1724961600@fieldtripadventures.com
SUMMARY: Mississippi River’s Picnic for the Park
DESCRIPTION:You are invited to celebrate the Mississippi River’s National Park at Picnic for the Park on Thursday\, August 29\, 2024 at Harriet Island. \n\n\n\nPicnic for the Park is a benefit fundraiser for Mississippi Park Connection.
URL:https://fieldtripadventures.com/event/mississippi-rivers-picnic-for-the-park/
LOCATION:Harriet Island Wigginton Pavilion\, 200 Doctor Justus Ohage Boulevard\, St Paul\, Minnesota\, 55107
ATTACH;FMTTYPE=image/jpeg:https://fieldtripadventures.com/wp-content/uploads/2024/07/miss-park-scaled.jpg
END:VEVENT
END:VCALENDAR