BEGIN:VCALENDAR
VERSION:2.0
PRODID:-//Field Trip Adventures - ECPv6.15.20//NONSGML v1.0//EN
CALSCALE:GREGORIAN
METHOD:PUBLISH
X-WR-CALNAME:Field Trip Adventures
X-ORIGINAL-URL:https://fieldtripadventures.com
X-WR-CALDESC:Events for Field Trip Adventures
REFRESH-INTERVAL;VALUE=DURATION:PT1H
X-Robots-Tag:noindex
X-PUBLISHED-TTL:PT1H
BEGIN:VTIMEZONE
TZID:America/Chicago
BEGIN:DAYLIGHT
TZOFFSETFROM:-0600
TZOFFSETTO:-0500
TZNAME:CDT
DTSTART:20230312T080000
END:DAYLIGHT
BEGIN:STANDARD
TZOFFSETFROM:-0500
TZOFFSETTO:-0600
TZNAME:CST
DTSTART:20231105T070000
END:STANDARD
BEGIN:DAYLIGHT
TZOFFSETFROM:-0600
TZOFFSETTO:-0500
TZNAME:CDT
DTSTART:20240310T080000
END:DAYLIGHT
BEGIN:STANDARD
TZOFFSETFROM:-0500
TZOFFSETTO:-0600
TZNAME:CST
DTSTART:20241103T070000
END:STANDARD
BEGIN:DAYLIGHT
TZOFFSETFROM:-0600
TZOFFSETTO:-0500
TZNAME:CDT
DTSTART:20250309T080000
END:DAYLIGHT
BEGIN:STANDARD
TZOFFSETFROM:-0500
TZOFFSETTO:-0600
TZNAME:CST
DTSTART:20251102T070000
END:STANDARD
END:VTIMEZONE
BEGIN:VEVENT
DTSTART;TZID=America/Chicago:20240610T090000
DTEND;TZID=America/Chicago:20240830T160000
DTSTAMP:20260419T130916
CREATED:20240116T163905Z
LAST-MODIFIED:20240621T011117Z
UID:354-1718010000-1725033600@fieldtripadventures.com
SUMMARY:Summer Camps at Minnesota Children's Museum
DESCRIPTION:Event Information\n\n\n\nWe’re partnering with The Works Museum and Stages Theatre Company to bring some of their favorite camps to Minnesota Children’s Museum! \n\n\n\nSummer camps are scheduled throughout June\, July and August\, mornings and afternoons. \n\n\n\n\n\nAddress \n\n\n\nMinnesota Children’s Museum10 W 7th StreetSt Paul\, MN 55102 \n\n\n\nLearn More
URL:https://fieldtripadventures.com/event/summer-camps-at-minnesota-childrens-museum/
LOCATION:Minnesota Children’s Museum\, 10 W 7th Street\, St Paul\, MN\, 55102\, United States
ATTACH;FMTTYPE=image/jpeg:https://fieldtripadventures.com/wp-content/uploads/2024/01/Children_s-Museum-scaled.jpg
END:VEVENT
BEGIN:VEVENT
DTSTART;TZID=America/Chicago:20240727T110000
DTEND;TZID=America/Chicago:20240822T190000
DTSTAMP:20260419T130916
CREATED:20240625T155043Z
LAST-MODIFIED:20240626T204834Z
UID:89729-1722078000-1724353200@fieldtripadventures.com
SUMMARY:Sustainable Safari Animals to Visit Vikings Training Camp
DESCRIPTION:Event Information\n\n\n\nVisit the Sustainable Safari ambassador animals at Vikings Training Camp. Porcupines and Baby Kangaroos have been previous guests to camp that you may meet individually\, if they are not on a break. Staff will be there to answer any questions you may have about the ambassador species. \n\n\n\n10 days of fun! Times are subject to change. \n\n\n\n\n\nAddress \n\n\n\nTwin Cities Orthopedics Performance Center2600 Vikings CirEagan\, MN 55121 \n\n\n\nTimes \n\n\n\nSaturday\, July 27 | 11 am-3 pmMonday\, July 29 | 11 am-3 pmTuesday\, July 30 | 11 am-3 pmWednesday\, July 31 | 11 am-3 pmFriday\, August 2 | 11 am-3 pmSaturday\, August 3 | 11 am-3 pmMonday\, August 5 | Night Practice 5 pm-7 pmWednesday\, August 7 | 11 am-3 pmThursday\, August 8 | 11 am-3 pmThursday\, August 22 | Night Practice 5 pm-7 pm \n\n\n\nLearn More
URL:https://fieldtripadventures.com/event/sustainable-safari-animals-to-visit-vikings-training-camp/
LOCATION:Twin Cities Orthopedics Performance Center\, 2600 Vikings Cir\, Eagan\, Minnesota\, 55121\, United States
ATTACH;FMTTYPE=image/jpeg:https://fieldtripadventures.com/wp-content/uploads/2024/06/Sustainable-Safari-scaled.jpg
END:VEVENT
BEGIN:VEVENT
DTSTART;TZID=America/Chicago:20240816T173000
DTEND;TZID=America/Chicago:20240816T193000
DTSTAMP:20260419T130916
CREATED:20240724T032908Z
LAST-MODIFIED:20240802T201038Z
UID:93161-1723829400-1723836600@fieldtripadventures.com
SUMMARY:Mystery on the Mississippi
DESCRIPTION:2024 Dates: August 16\, September 27\, October 12 \n\n\n\nBack by popular demand: Mystery on the Mississippi River is taking place at Crosby Farm Regional Park and has a bit of a supernatural twist this year! \n\n\n\n“Monsters of the Mississippi” is a completely real and not at all made up show about mythical monsters on and near the Mississippi river as they investigate a cold case murder believed to have been committed by a local legend Catfish McGee. Was the victim killed by a giant walking catfish or is the culprit a little less sensational? The mystery will unfold as you walk through Crosby Farm and you can help figure out who was responsible! \n\n\n\nMississippi Park Connection and the Mississippi National River and Recreation Area\, in collaboration with Fearless Comedy Productions\, will bring an immersive murder mystery theatrical experience to life\, Mystery of the Mississippi. \n\n\n\nThe show will be an hour long from beginning to end. Please arrive 15 min before your timeslot to check in and get situated. \n\n\n\nCost: $30 Members | $35 Non-membersLocation: Crosby Farm Regional Park\, 2595 Crosby Farm Rd\, St Paul\, MN 55116 \n\n\n\nAccessibility: All paths at Crosby Farm Regional Park are ADA accessible. All performances will be viewable from walking paths. There will be walking between stations and standing during performances. There will be select seating at some stations. Feel free to bring your own chair. \n\n\n\nIf you have questions about this event\, please contact Mississippi Park Connection at info@parkconnection.org and/or 651-291-8164.
URL:https://fieldtripadventures.com/event/mystery-on-the-mississippi-3/
LOCATION:Crosby Farm Regional Park\, 2400 Crosby Farm Trail\, St Paul\, Minnesota\, 55116
ATTACH;FMTTYPE=image/jpeg:https://fieldtripadventures.com/wp-content/uploads/2024/07/miss.jpg
END:VEVENT
BEGIN:VEVENT
DTSTART;TZID=America/Chicago:20240816T190000
DTEND;TZID=America/Chicago:20240818T130000
DTSTAMP:20260419T130916
CREATED:20240621T003826Z
LAST-MODIFIED:20240626T225132Z
UID:89130-1723834800-1723986000@fieldtripadventures.com
SUMMARY:2024 Shakopee Mdewakanton Sioux Community Wacipi
DESCRIPTION:Event Information\n\n\n\nWacipi—or powwow—is a traditional Native American gathering\, a celebration of life\, pride\, and honor. Meaning “they dance” in the Dakota language\, today’s wacipi brings together people from all over the country for three days of celebrating in a good way. It is a time for preserving a rich heritage\, while reconnecting with old friends and making new friends. \n\n\n\nGrand Entry sets the stage for each day’s contests and activities\, which includes a ceremonious entrance into the dance arena\, led by a Native American veteran color guard\, visiting dignitaries\, and tribal royalty\, followed by hundreds of dancers of all ages. Representing dozens of tribes from across the United States and Canada\, dancers dressed in traditional regalia compete for top honors in various dance style categories and age groups\, while drum groups and singers surround the perimeter of the arena. Native American artists and crafters display traditional beadwork\, jewelry\, and handmade goods\, while food vendors offer a variety of tasty\, authentic meals and treats. \n\n\n\nThe SMSC’s Wacipi attracts thousands of visitors each year to honor the history of a strong group of people. We invite you to be a part of this celebration with us here at the Shakopee Mdewakanton Sioux Community (SMSC) for our annual wacipi in Shakopee\, Minnesota\, over the weekend of August 16-18\, 2024. \n\n\n\n\n\nAddress \n\n\n\nSMSC Wacipi3212 Dakotah ParkwayShakopee\, MN 55379 \n\n\n\nTime \n\n\n\nFriday 7pmSaturday 1pm and 7pmSunday 1pm \n\n\n\nLearn More
URL:https://fieldtripadventures.com/event/2024-shakopee-mdewakanton-sioux-community-wacipi/
LOCATION:SMSC Wacipi\, 3212 Dakotah Parkway\, Shakopee\, Minnesota\, 55379\, United States
ATTACH;FMTTYPE=image/jpeg:https://fieldtripadventures.com/wp-content/uploads/2024/06/1_24-25546-WACIPI_Update-Digital_940x188_Gen3.jpg
END:VEVENT
END:VCALENDAR